BEGIN:VCALENDAR
VERSION:2.0
PRODID:-//SeaKeepers - ECPv6.15.20//NONSGML v1.0//EN
CALSCALE:GREGORIAN
METHOD:PUBLISH
X-ORIGINAL-URL:https://www.seakeepers.org
X-WR-CALDESC:Events for SeaKeepers
REFRESH-INTERVAL;VALUE=DURATION:PT1H
X-Robots-Tag:noindex
X-PUBLISHED-TTL:PT1H
BEGIN:VTIMEZONE
TZID:America/New_York
BEGIN:DAYLIGHT
TZOFFSETFROM:-0500
TZOFFSETTO:-0400
TZNAME:EDT
DTSTART:20220313T070000
END:DAYLIGHT
BEGIN:STANDARD
TZOFFSETFROM:-0400
TZOFFSETTO:-0500
TZNAME:EST
DTSTART:20221106T060000
END:STANDARD
BEGIN:DAYLIGHT
TZOFFSETFROM:-0500
TZOFFSETTO:-0400
TZNAME:EDT
DTSTART:20230312T070000
END:DAYLIGHT
BEGIN:STANDARD
TZOFFSETFROM:-0400
TZOFFSETTO:-0500
TZNAME:EST
DTSTART:20231105T060000
END:STANDARD
BEGIN:DAYLIGHT
TZOFFSETFROM:-0500
TZOFFSETTO:-0400
TZNAME:EDT
DTSTART:20240310T070000
END:DAYLIGHT
BEGIN:STANDARD
TZOFFSETFROM:-0400
TZOFFSETTO:-0500
TZNAME:EST
DTSTART:20241103T060000
END:STANDARD
END:VTIMEZONE
BEGIN:VEVENT
DTSTART;VALUE=DATE:20230311
DTEND;VALUE=DATE:20230312
DTSTAMP:20260422T213714
CREATED:20230315T073402Z
LAST-MODIFIED:20250311T104414Z
UID:10000267-1678492800-1678579199@www.seakeepers.org
SUMMARY:FTL Beach Cleanup in Fort Lauderdale
DESCRIPTION:
URL:https://www.seakeepers.org/volunteering-opportunities/ftl-beach-cleanup-in-fort-lauderdale/
LOCATION:England
CATEGORIES:Events
END:VEVENT
BEGIN:VEVENT
DTSTART;VALUE=DATE:20230318
DTEND;VALUE=DATE:20230319
DTSTAMP:20260422T213714
CREATED:20230315T073506Z
LAST-MODIFIED:20250311T104414Z
UID:10000268-1679097600-1679183999@www.seakeepers.org
SUMMARY:SeaExperience Dive Cleanup in Bahia Mar\, Fort Lauderdale
DESCRIPTION:
URL:https://www.seakeepers.org/volunteering-opportunities/seaexperience-dive-cleanup-in-bahia-mar-fort-lauderdale/
LOCATION:England
CATEGORIES:Events
END:VEVENT
BEGIN:VEVENT
DTSTART;VALUE=DATE:20230318
DTEND;VALUE=DATE:20230319
DTSTAMP:20260422T213714
CREATED:20230315T073754Z
LAST-MODIFIED:20250311T104414Z
UID:10000269-1679097600-1679183999@www.seakeepers.org
SUMMARY:Pelican Island Cleanup
DESCRIPTION:
URL:https://www.seakeepers.org/volunteering-opportunities/pelican-island-cleanup/
LOCATION:England
CATEGORIES:Events
END:VEVENT
END:VCALENDAR