BEGIN:VCALENDAR
VERSION:2.0
PRODID:-//SeaKeepers - ECPv6.15.20//NONSGML v1.0//EN
CALSCALE:GREGORIAN
METHOD:PUBLISH
X-WR-CALNAME:SeaKeepers
X-ORIGINAL-URL:https://www.seakeepers.org
X-WR-CALDESC:Events for SeaKeepers
REFRESH-INTERVAL;VALUE=DURATION:PT1H
X-Robots-Tag:noindex
X-PUBLISHED-TTL:PT1H
BEGIN:VTIMEZONE
TZID:America/New_York
BEGIN:DAYLIGHT
TZOFFSETFROM:-0500
TZOFFSETTO:-0400
TZNAME:EDT
DTSTART:20220313T070000
END:DAYLIGHT
BEGIN:STANDARD
TZOFFSETFROM:-0400
TZOFFSETTO:-0500
TZNAME:EST
DTSTART:20221106T060000
END:STANDARD
BEGIN:DAYLIGHT
TZOFFSETFROM:-0500
TZOFFSETTO:-0400
TZNAME:EDT
DTSTART:20230312T070000
END:DAYLIGHT
BEGIN:STANDARD
TZOFFSETFROM:-0400
TZOFFSETTO:-0500
TZNAME:EST
DTSTART:20231105T060000
END:STANDARD
BEGIN:DAYLIGHT
TZOFFSETFROM:-0500
TZOFFSETTO:-0400
TZNAME:EDT
DTSTART:20240310T070000
END:DAYLIGHT
BEGIN:STANDARD
TZOFFSETFROM:-0400
TZOFFSETTO:-0500
TZNAME:EST
DTSTART:20241103T060000
END:STANDARD
END:VTIMEZONE
BEGIN:VEVENT
DTSTART;TZID=America/New_York:20230507T090000
DTEND;TZID=America/New_York:20230507T110000
DTSTAMP:20260422T181231
CREATED:20230315T074033Z
LAST-MODIFIED:20250311T104414Z
UID:10000273-1683450000-1683457200@www.seakeepers.org
SUMMARY:Margaret Pace Park Cleanup
DESCRIPTION:RSVP
URL:https://www.seakeepers.org/volunteering-opportunities/morningside-park-cleanup-2/
LOCATION:England
CATEGORIES:Events
END:VEVENT
BEGIN:VEVENT
DTSTART;TZID=America/New_York:20230520T090000
DTEND;TZID=America/New_York:20230520T130000
DTSTAMP:20260422T181231
CREATED:20230315T074059Z
LAST-MODIFIED:20250311T104414Z
UID:10000274-1684573200-1684587600@www.seakeepers.org
SUMMARY:SeaExperience Dive Cleanup in Bahia Mar\, Fort Lauderdale
DESCRIPTION:RSVP \nUse CLEANREEFS for $10 off!
URL:https://www.seakeepers.org/volunteering-opportunities/seaexperience-dive-cleanup-in-bahia-mar-fort-lauderdale-2/
LOCATION:England
CATEGORIES:Events
END:VEVENT
BEGIN:VEVENT
DTSTART;TZID=America/New_York:20230520T100000
DTEND;TZID=America/New_York:20230520T140000
DTSTAMP:20260422T181231
CREATED:20230315T074130Z
LAST-MODIFIED:20250311T104413Z
UID:10000275-1684576800-1684591200@www.seakeepers.org
SUMMARY:Pelican Island Cleanup
DESCRIPTION:RSVP
URL:https://www.seakeepers.org/volunteering-opportunities/pelican-island-cleanup-3/
LOCATION:England
CATEGORIES:Events
END:VEVENT
END:VCALENDAR