BEGIN:VCALENDAR
VERSION:2.0
PRODID:-//SeaKeepers - ECPv6.15.20//NONSGML v1.0//EN
CALSCALE:GREGORIAN
METHOD:PUBLISH
X-ORIGINAL-URL:https://www.seakeepers.org
X-WR-CALDESC:Events for SeaKeepers
REFRESH-INTERVAL;VALUE=DURATION:PT1H
X-Robots-Tag:noindex
X-PUBLISHED-TTL:PT1H
BEGIN:VTIMEZONE
TZID:America/New_York
BEGIN:DAYLIGHT
TZOFFSETFROM:-0500
TZOFFSETTO:-0400
TZNAME:EDT
DTSTART:20220313T070000
END:DAYLIGHT
BEGIN:STANDARD
TZOFFSETFROM:-0400
TZOFFSETTO:-0500
TZNAME:EST
DTSTART:20221106T060000
END:STANDARD
BEGIN:DAYLIGHT
TZOFFSETFROM:-0500
TZOFFSETTO:-0400
TZNAME:EDT
DTSTART:20230312T070000
END:DAYLIGHT
BEGIN:STANDARD
TZOFFSETFROM:-0400
TZOFFSETTO:-0500
TZNAME:EST
DTSTART:20231105T060000
END:STANDARD
BEGIN:DAYLIGHT
TZOFFSETFROM:-0500
TZOFFSETTO:-0400
TZNAME:EDT
DTSTART:20240310T070000
END:DAYLIGHT
BEGIN:STANDARD
TZOFFSETFROM:-0400
TZOFFSETTO:-0500
TZNAME:EST
DTSTART:20241103T060000
END:STANDARD
END:VTIMEZONE
BEGIN:VEVENT
DTSTART;VALUE=DATE:20230705
DTEND;VALUE=DATE:20230706
DTSTAMP:20260422T145752
CREATED:20230315T074425Z
LAST-MODIFIED:20250311T104413Z
UID:10000279-1688515200-1688601599@www.seakeepers.org
SUMMARY:Miami Waterkeeper Beach Cleanup in Historic Virginia Key
DESCRIPTION:
URL:https://www.seakeepers.org/volunteering-opportunities/miami-waterkeeper-beach-cleanup-in-historic-virginia-key/
LOCATION:England
CATEGORIES:Events
END:VEVENT
BEGIN:VEVENT
DTSTART;TZID=America/New_York:20230711T090000
DTEND;TZID=America/New_York:20230711T110000
DTSTAMP:20260422T145752
CREATED:20230711T212514Z
LAST-MODIFIED:20250311T104413Z
UID:10000298-1689066000-1689073200@www.seakeepers.org
SUMMARY:Margaret Pace Park
DESCRIPTION:RSVP
URL:https://www.seakeepers.org/volunteering-opportunities/margaret-pace-park-2/
LOCATION:England
END:VEVENT
BEGIN:VEVENT
DTSTART;TZID=America/New_York:20230715T090000
DTEND;TZID=America/New_York:20230715T130000
DTSTAMP:20260422T145752
CREATED:20230315T074451Z
LAST-MODIFIED:20250311T104413Z
UID:10000280-1689411600-1689426000@www.seakeepers.org
SUMMARY:Women's Dive Day Cleanup
DESCRIPTION:RSVP \nUse CLEANREEFS for $10 off
URL:https://www.seakeepers.org/volunteering-opportunities/seaexperience-dive-cleanup-in-bahia-mar-fort-lauderdale-4/
LOCATION:England
CATEGORIES:Events
END:VEVENT
BEGIN:VEVENT
DTSTART;TZID=America/New_York:20230730T090000
DTEND;TZID=America/New_York:20230730T110000
DTSTAMP:20260422T145752
CREATED:20230627T205517Z
LAST-MODIFIED:20250311T104413Z
UID:10000296-1690707600-1690714800@www.seakeepers.org
SUMMARY:Morningside Park Cleanup
DESCRIPTION:RSVP
URL:https://www.seakeepers.org/volunteering-opportunities/morningside-park-cleanup-8/
LOCATION:England
END:VEVENT
END:VCALENDAR