BEGIN:VCALENDAR
VERSION:2.0
PRODID:-//SeaKeepers - ECPv6.15.20//NONSGML v1.0//EN
CALSCALE:GREGORIAN
METHOD:PUBLISH
X-WR-CALNAME:SeaKeepers
X-ORIGINAL-URL:https://www.seakeepers.org
X-WR-CALDESC:Events for SeaKeepers
REFRESH-INTERVAL;VALUE=DURATION:PT1H
X-Robots-Tag:noindex
X-PUBLISHED-TTL:PT1H
BEGIN:VTIMEZONE
TZID:America/New_York
BEGIN:DAYLIGHT
TZOFFSETFROM:-0500
TZOFFSETTO:-0400
TZNAME:EDT
DTSTART:20220313T070000
END:DAYLIGHT
BEGIN:STANDARD
TZOFFSETFROM:-0400
TZOFFSETTO:-0500
TZNAME:EST
DTSTART:20221106T060000
END:STANDARD
BEGIN:DAYLIGHT
TZOFFSETFROM:-0500
TZOFFSETTO:-0400
TZNAME:EDT
DTSTART:20230312T070000
END:DAYLIGHT
BEGIN:STANDARD
TZOFFSETFROM:-0400
TZOFFSETTO:-0500
TZNAME:EST
DTSTART:20231105T060000
END:STANDARD
BEGIN:DAYLIGHT
TZOFFSETFROM:-0500
TZOFFSETTO:-0400
TZNAME:EDT
DTSTART:20240310T070000
END:DAYLIGHT
BEGIN:STANDARD
TZOFFSETFROM:-0400
TZOFFSETTO:-0500
TZNAME:EST
DTSTART:20241103T060000
END:STANDARD
END:VTIMEZONE
BEGIN:VEVENT
DTSTART;TZID=America/New_York:20230812T090000
DTEND;TZID=America/New_York:20230812T130000
DTSTAMP:20260422T125502
CREATED:20230315T074547Z
LAST-MODIFIED:20250311T104413Z
UID:10000281-1691830800-1691845200@www.seakeepers.org
SUMMARY:SeaExperience Dive Cleanup in Bahia Mar\, Fort Lauderdale
DESCRIPTION:RSVP
URL:https://www.seakeepers.org/volunteering-opportunities/seaexperience-dive-cleanup-in-bahia-mar-fort-lauderdale-5/
LOCATION:England
CATEGORIES:Events
ATTACH;FMTTYPE=image/jpeg:https://www.seakeepers.org/wp-content/uploads/2023/08/Ocean-Rescue-Alliance-Cover.jpg
END:VEVENT
BEGIN:VEVENT
DTSTART;TZID=America/New_York:20230819T090000
DTEND;TZID=America/New_York:20230819T110000
DTSTAMP:20260422T125502
CREATED:20230315T074608Z
LAST-MODIFIED:20250311T104413Z
UID:10000282-1692435600-1692442800@www.seakeepers.org
SUMMARY:Margaret Pace Park Cleanup
DESCRIPTION:RSVP
URL:https://www.seakeepers.org/volunteering-opportunities/pelican-island-cleanup-5/
LOCATION:England
CATEGORIES:Events
END:VEVENT
BEGIN:VEVENT
DTSTART;TZID=America/New_York:20230827T090000
DTEND;TZID=America/New_York:20230827T110000
DTSTAMP:20260422T125502
CREATED:20230315T074629Z
LAST-MODIFIED:20250311T104413Z
UID:10000283-1693126800-1693134000@www.seakeepers.org
SUMMARY:Morningside Park Cleanup
DESCRIPTION:RSVP
URL:https://www.seakeepers.org/volunteering-opportunities/morningside-park-cleanup-3/
LOCATION:England
CATEGORIES:Events
END:VEVENT
BEGIN:VEVENT
DTSTART;TZID=America/New_York:20230830T183000
DTEND;TZID=America/New_York:20230830T200000
DTSTAMP:20260422T125502
CREATED:20230822T182554Z
LAST-MODIFIED:20250311T104413Z
UID:10000300-1693420200-1693425600@www.seakeepers.org
SUMMARY:National Beach Day Cleanup with the 1 Hotel
DESCRIPTION:RSVP
URL:https://www.seakeepers.org/volunteering-opportunities/national-beach-day-cleanup-with-the-1-hotel/
LOCATION:England
CATEGORIES:Events
END:VEVENT
END:VCALENDAR