BEGIN:VCALENDAR
VERSION:2.0
PRODID:-//SeaKeepers - ECPv6.15.20//NONSGML v1.0//EN
CALSCALE:GREGORIAN
METHOD:PUBLISH
X-ORIGINAL-URL:https://www.seakeepers.org
X-WR-CALDESC:Events for SeaKeepers
REFRESH-INTERVAL;VALUE=DURATION:PT1H
X-Robots-Tag:noindex
X-PUBLISHED-TTL:PT1H
BEGIN:VTIMEZONE
TZID:America/New_York
BEGIN:DAYLIGHT
TZOFFSETFROM:-0500
TZOFFSETTO:-0400
TZNAME:EDT
DTSTART:20220313T070000
END:DAYLIGHT
BEGIN:STANDARD
TZOFFSETFROM:-0400
TZOFFSETTO:-0500
TZNAME:EST
DTSTART:20221106T060000
END:STANDARD
BEGIN:DAYLIGHT
TZOFFSETFROM:-0500
TZOFFSETTO:-0400
TZNAME:EDT
DTSTART:20230312T070000
END:DAYLIGHT
BEGIN:STANDARD
TZOFFSETFROM:-0400
TZOFFSETTO:-0500
TZNAME:EST
DTSTART:20231105T060000
END:STANDARD
BEGIN:DAYLIGHT
TZOFFSETFROM:-0500
TZOFFSETTO:-0400
TZNAME:EDT
DTSTART:20240310T070000
END:DAYLIGHT
BEGIN:STANDARD
TZOFFSETFROM:-0400
TZOFFSETTO:-0500
TZNAME:EST
DTSTART:20241103T060000
END:STANDARD
END:VTIMEZONE
BEGIN:VEVENT
DTSTART;TZID=America/New_York:20230903T090000
DTEND;TZID=America/New_York:20230903T110000
DTSTAMP:20260422T111959
CREATED:20230711T211304Z
LAST-MODIFIED:20250311T104413Z
UID:10000297-1693731600-1693738800@www.seakeepers.org
SUMMARY:Margaret Pace Park
DESCRIPTION:1745 N Bayshore Dr\, Miami\, FL 33132\nRSVP
URL:https://www.seakeepers.org/volunteering-opportunities/margaret-pace-park/
LOCATION:England
END:VEVENT
BEGIN:VEVENT
DTSTART;TZID=America/New_York:20230916T080000
DTEND;TZID=America/New_York:20230916T120000
DTSTAMP:20260422T111959
CREATED:20230315T074713Z
LAST-MODIFIED:20250311T104413Z
UID:10000284-1694851200-1694865600@www.seakeepers.org
SUMMARY:International Coastal Cleanup Day 2023
DESCRIPTION:Join The International SeaKeepers Society on Saturday\, September 16\, 2023\, for the world’s largest\, one-day volunteer effort for our oceans and waterways\, and show your commitment to reducing marine debris\, along with millions of volunteers from across the globe! Spearheaded globally by the Ocean Conservancy\, VolunteerCleanup.org organizes Miami-Dade’s local participation in this annual event with 50+ simultaneous shoreline cleanups around the county and is made possible by the generous support of our presenting sponsors Covanta and Boucher Brothers\, with additional support from Blackstone Charitable Foundation\, The Brady Hunter Foundation\, Benjamin & Gloria Joannou\, Jr. Family Conservation Fund\, City of Miami Beach\, The Miami Foundation\, Loud and Live\, and Miami-Dade County RER-DERM. Sign-Up for the cleanup here.
URL:https://www.seakeepers.org/volunteering-opportunities/morningside-park-cleanup-4/
LOCATION:England
CATEGORIES:Events
END:VEVENT
BEGIN:VEVENT
DTSTART;TZID=America/New_York:20230923T090000
DTEND;TZID=America/New_York:20230923T130000
DTSTAMP:20260422T111959
CREATED:20230315T074803Z
LAST-MODIFIED:20250311T104413Z
UID:10000286-1695459600-1695474000@www.seakeepers.org
SUMMARY:SeaExperience Dive Cleanup in Bahia Mar\, Fort Lauderdale
DESCRIPTION:RSVP
URL:https://www.seakeepers.org/volunteering-opportunities/seaexperience-dive-cleanup-in-bahia-mar-fort-lauderdale-6/
LOCATION:England
CATEGORIES:Events
END:VEVENT
END:VCALENDAR